BEGIN:VCALENDAR
VERSION:2.0
PRODID:-//MassHire South Shore Career Center - ECPv6.15.12.2//NONSGML v1.0//EN
CALSCALE:GREGORIAN
METHOD:PUBLISH
X-WR-CALNAME:MassHire South Shore Career Center
X-ORIGINAL-URL:https://masshiress.com
X-WR-CALDESC:Events for MassHire South Shore Career Center
REFRESH-INTERVAL;VALUE=DURATION:PT1H
X-Robots-Tag:noindex
X-PUBLISHED-TTL:PT1H
BEGIN:VTIMEZONE
TZID:America/New_York
BEGIN:DAYLIGHT
TZOFFSETFROM:-0500
TZOFFSETTO:-0400
TZNAME:EDT
DTSTART:20170312T070000
END:DAYLIGHT
BEGIN:STANDARD
TZOFFSETFROM:-0400
TZOFFSETTO:-0500
TZNAME:EST
DTSTART:20171105T060000
END:STANDARD
BEGIN:DAYLIGHT
TZOFFSETFROM:-0500
TZOFFSETTO:-0400
TZNAME:EDT
DTSTART:20180311T070000
END:DAYLIGHT
BEGIN:STANDARD
TZOFFSETFROM:-0400
TZOFFSETTO:-0500
TZNAME:EST
DTSTART:20181104T060000
END:STANDARD
BEGIN:DAYLIGHT
TZOFFSETFROM:-0500
TZOFFSETTO:-0400
TZNAME:EDT
DTSTART:20190310T070000
END:DAYLIGHT
BEGIN:STANDARD
TZOFFSETFROM:-0400
TZOFFSETTO:-0500
TZNAME:EST
DTSTART:20191103T060000
END:STANDARD
END:VTIMEZONE
BEGIN:VEVENT
DTSTART;TZID=America/New_York:20181127T110000
DTEND;TZID=America/New_York:20181127T120000
DTSTAMP:20260422T134338
CREATED:20181119T171704Z
LAST-MODIFIED:20181119T172524Z
UID:15560-1543316400-1543320000@masshiress.com
SUMMARY:MBTA Information Session in Quincy  @ 11 a.m.
DESCRIPTION:MBTA Information Session
URL:https://masshiress.com/event/mbta-information-session-quincy-11-27-17-11-a-m/
LOCATION:MA
CATEGORIES:Informational Session
END:VEVENT
END:VCALENDAR