BEGIN:VCALENDAR
VERSION:2.0
PRODID:-//MassHire South Shore Career Center - ECPv6.15.12.2//NONSGML v1.0//EN
CALSCALE:GREGORIAN
METHOD:PUBLISH
X-WR-CALNAME:MassHire South Shore Career Center
X-ORIGINAL-URL:https://masshiress.com
X-WR-CALDESC:Events for MassHire South Shore Career Center
REFRESH-INTERVAL;VALUE=DURATION:PT1H
X-Robots-Tag:noindex
X-PUBLISHED-TTL:PT1H
BEGIN:VTIMEZONE
TZID:America/New_York
BEGIN:DAYLIGHT
TZOFFSETFROM:-0500
TZOFFSETTO:-0400
TZNAME:EDT
DTSTART:20180311T070000
END:DAYLIGHT
BEGIN:STANDARD
TZOFFSETFROM:-0400
TZOFFSETTO:-0500
TZNAME:EST
DTSTART:20181104T060000
END:STANDARD
BEGIN:DAYLIGHT
TZOFFSETFROM:-0500
TZOFFSETTO:-0400
TZNAME:EDT
DTSTART:20190310T070000
END:DAYLIGHT
BEGIN:STANDARD
TZOFFSETFROM:-0400
TZOFFSETTO:-0500
TZNAME:EST
DTSTART:20191103T060000
END:STANDARD
BEGIN:DAYLIGHT
TZOFFSETFROM:-0500
TZOFFSETTO:-0400
TZNAME:EDT
DTSTART:20200308T070000
END:DAYLIGHT
BEGIN:STANDARD
TZOFFSETFROM:-0400
TZOFFSETTO:-0500
TZNAME:EST
DTSTART:20201101T060000
END:STANDARD
END:VTIMEZONE
BEGIN:VEVENT
DTSTART;TZID=America/New_York:20190513T110000
DTEND;TZID=America/New_York:20190513T110000
DTSTAMP:20260420T033325
CREATED:20190509T120959Z
LAST-MODIFIED:20190509T121059Z
UID:16177-1557745200-1557745200@masshiress.com
SUMMARY:Humboldt Storage & Moving Recruitment
DESCRIPTION:
URL:https://masshiress.com/event/humboldt-storage-moving/
LOCATION:MA
CATEGORIES:Recruitments
END:VEVENT
BEGIN:VEVENT
DTSTART;TZID=America/New_York:20190517T110000
DTEND;TZID=America/New_York:20190517T130000
DTSTAMP:20260420T033325
CREATED:20190509T120420Z
LAST-MODIFIED:20190509T121223Z
UID:16175-1558090800-1558098000@masshiress.com
SUMMARY:Nordstrom Rack Recruitment
DESCRIPTION:
URL:https://masshiress.com/event/nordstrom-rack/
LOCATION:MA
CATEGORIES:Recruitments
END:VEVENT
BEGIN:VEVENT
DTSTART;TZID=America/New_York:20190517T130000
DTEND;TZID=America/New_York:20190517T150000
DTSTAMP:20260420T033325
CREATED:20190502T150331Z
LAST-MODIFIED:20190503T153927Z
UID:16162-1558098000-1558105200@masshiress.com
SUMMARY:Budgeting During Your Job Search
DESCRIPTION:MassHire Budgeting Workshop
URL:https://masshiress.com/event/budgeting-during-your-job-search/
LOCATION:MA
CATEGORIES:Workshops
END:VEVENT
BEGIN:VEVENT
DTSTART;TZID=America/New_York:20190530T150000
DTEND;TZID=America/New_York:20190530T160000
DTSTAMP:20260420T033325
CREATED:20190503T154204Z
LAST-MODIFIED:20190503T154204Z
UID:16169-1559228400-1559232000@masshiress.com
SUMMARY:Job Corp. Information Session
DESCRIPTION:
URL:https://masshiress.com/event/job-corp-information-session/
LOCATION:MA
CATEGORIES:Workshops
END:VEVENT
END:VCALENDAR